Workbook

Sheet Income Statements
A1: HISTORICAL FINANCIALS
A2: INCOME STATEMENTS
A3: INCLUDING SP VIDEO SOFTWARE SOLUTIONS BUSINESS FOR ALL PERIODS*
A4: (in millions, except per-share amounts)
C6: Notes (1) (2) | E6: Notes (1) (2) | G6: Notes (1) (2) | I6: Notes (1) (2) | K6: Notes (1) (2) | M6: Notes (1) (2) | O6: Notes (1) (2) | Q6: Notes (1) (2) | S6: Notes (1) (2) | U6: Notes (1) (2)
C7: GAAP | E7: NON-GAAP | G7: GAAP | I7: NON-GAAP | K7: GAAP | M7: NON-GAAP | O7: GAAP | Q7: NON-GAAP | S7: GAAP | U7: NON-GAAP
C8: FY 2019 | E8: =$C8 -> FY 2019 | G8: FY 2019 | I8: =$C8 -> FY 2019 | K8: FY 2019 | M8: =$C8 -> FY 2019 | O8: FY 2019 | Q8: =$C8 -> FY 2019 | S8: =C8 -> FY 2019 | U8: =C8 -> FY 2019
C9: Quarter Ended | E9: =C9 -> Quarter Ended | G9: Quarter Ended | I9: =G9 -> Quarter Ended | K9: Quarter Ended | M9: =K9 -> Quarter Ended | O9: Quarter Ended | Q9: =O9 -> Quarter Ended | S9: Year Ended | U9: =S9 -> Year Ended
C10: October 27, 2018 | E10: October 27, 2018 | G10: January 26, 2019 | I10: January 26, 2019 | K10: April 27, 2019 | M10: April 27, 2019 | O10: July 27, 2019 | Q10: July 27, 2019 | S10: =O10 -> July 27, 2019 | U10: =S10 -> July 27, 2019
A11: REVENUE:
B12: Product | C12: 9890 | E12: =C12 -> 9890 | G12: 9273 | I12: =G12 -> 9273 | K12: 9722 | M12: =K12 -> 9722 | O12: 10120 | Q12: =O12 -> 10120 | S12: =C12+G12+K12+O12 -> 39005 | U12: =S12 -> 39005
B13: Service | C13: 3182 | E13: =C13 -> 3182 | G13: 3173 | I13: =G13 -> 3173 | K13: 3236 | M13: =K13 -> 3236 | O13: 3308 | Q13: =O13 -> 3308 | S13: =C13+G13+K13+O13 -> 12899 | U13: =S13 -> 12899
B14: Total revenue | C14: =SUM(C12:C13) -> 13072 | E14: =SUM(E12:E13) -> 13072 | G14: =SUM(G12:G13) -> 12446 | I14: =SUM(I12:I13) -> 12446 | K14: =SUM(K12:K13) -> 12958 | M14: =SUM(M12:M13) -> 12958 | O14: =SUM(O12:O13) -> 13428 | Q14: =SUM(Q12:Q13) -> 13428 | S14: =SUM(S12:S13) -> 51904 | U14: =SUM(U12:U13) -> 51904
A16: COST OF SALES:
B17: Product (a) - (d) & (f) | C17: 3799 | E17: =C17-'GAAP Recon Note 2'!E18 -> 3639 | G17: 3614 | I17: 3445 | K17: 3693 | M17: =K17-'GAAP Recon Note 2'!E38 -> 3529 | O17: 3757 | Q17: =O17-'GAAP Recon Note 2'!E48 -> 3573 | S17: =C17+G17+K17+O17 -> 14863 | U17: =S17-'GAAP Recon Note 2'!E58 -> 14186
B18: Service (a) & (d) | C18: 1127 | E18: =C18-'GAAP Recon Note 2'!F18 -> 1092 | G18: 1059 | I18: 1026 | K18: 1092 | M18: =K18-'GAAP Recon Note 2'!F38 -> 1059 | O18: 1097 | Q18: =O18-'GAAP Recon Note 2'!F48 -> 1062 | S18: =C18+G18+K18+O18 -> 4375 | U18: =S18-'GAAP Recon Note 2'!F58 -> 4239
B19: Total cost of sales (a) - (d) & (f) | C19: =SUM(C17:C18) -> 4926 | E19: =SUM(E17:E18) -> 4731 | G19: =SUM(G17:G18) -> 4673 | I19: =SUM(I17:I18) -> 4471 | K19: =SUM(K17:K18) -> 4785 | M19: =SUM(M17:M18) -> 4588 | O19: =SUM(O17:O18) -> 4854 | Q19: =SUM(Q17:Q18) -> 4635 | S19: =SUM(S17:S18) -> 19238 | U19: =SUM(U17:U18) -> 18425
A21: GROSS MARGIN (a) - (d) & (f) | C21: =C14-C19 -> 8146 | E21: =E14-E19 -> 8341 | G21: =G14-G19 -> 7773 | I21: =I14-I19 -> 7975 | K21: =K14-K19 -> 8173 | M21: =M14-M19 -> 8370 | O21: =O14-O19 -> 8574 | Q21: =Q14-Q19 -> 8793 | S21: =C21+G21+K21+O21 -> 32666 | U21: =U14-U19 -> 33479
B22: Product gross margin percentage | C22: =(C12-C17)/C12 -> 0.61587462 | E22: =(E12-E17)/E12 -> 0.63205258 | G22: =(G12-G17)/G12 -> 0.61026636 | I22: =(I12-I17)/I12 -> 0.62849132 | K22: =(K12-K17)/K12 -> 0.62013989 | M22: =(M12-M17)/M12 -> 0.63700885 | O22: =(O12-O17)/O12 -> 0.62875494 | Q22: =(Q12-Q17)/Q12 -> 0.64693676 | S22: =(S12-S17)/S12 -> 0.61894629 | U22: =(U12-U17)/U12 -> 0.63630304
B23: Service gross margin percentage | C23: =(C13-C18)/C13 -> 0.64582024 | E23: =(E13-E18)/E13 -> 0.65681961 | G23: =(G13-G18)/G13 -> 0.66624645 | I23: =(I13-I18)/I13 -> 0.67664671 | K23: =(K13-K18)/K13 -> 0.66254635 | M23: =(M13-M18)/M13 -> 0.67274413 | O23: =(O13-O18)/O13 -> 0.66837969 | Q23: =(Q13-Q18)/Q13 -> 0.6789601 | S23: =(S13-S18)/S13 -> 0.66082642 | U23: =(U13-U18)/U13 -> 0.67136987
B24: Total gross margin percentage | C24: =(C14-C19)/C14 -> 0.62316401 | E24: =(E14-E19)/E14 -> 0.6380814 | G24: =(G14-G19)/G14 -> 0.624538 | I24: =(I14-I19)/I14 -> 0.64076812 | K24: =(K14-K19)/K14 -> 0.63073005 | M24: =(M14-M19)/M14 -> 0.64593301 | O24: =(O14-O19)/O14 -> 0.63851653 | Q24: =(Q14-Q19)/Q14 -> 0.65482574 | S24: =(S14-S19)/S14 -> 0.62935419 | U24: =(U14-U19)/U14 -> 0.64501773
A26: OPERATING EXPENSES:
B27: Research and development (a) & (d) | C27: 1608 | E27: =C27-'GAAP Recon Note 2'!H18 -> 1437 | G27: 1557 | I27: =G27-'GAAP Recon Note 2'!H28 -> 1374 | K27: 1659 | M27: =K27-'GAAP Recon Note 2'!H38 -> 1468 | O27: 1753 | Q27: =O27-'GAAP Recon Note 2'!H48 -> 1557 | S27: =C27+G27+K27+O27 -> 6577 | U27: =S27-'GAAP Recon Note 2'!H58 -> 5836
B28: Sales and marketing (a) & (d) | C28: 2410 | E28: =C28-'GAAP Recon Note 2'!I18 -> 2266.7 | G28: 2271 | I28: =G28-'GAAP Recon Note 2'!I28 -> 2138 | K28: 2403 | M28: =K28-'GAAP Recon Note 2'!I38 -> 2270 | O28: 2487 | Q28: =O28-'GAAP Recon Note 2'!I48 -> 2349 | S28: =C28+G28+K28+O28 -> 9571 | U28: =S28-'GAAP Recon Note 2'!I58 -> 9023.7
B29: General and administrative (a), (d) & (f) | C29: 211 | E29: =C29-'GAAP Recon Note 2'!J18 -> 470 | G29: 509 | I29: =G29-'GAAP Recon Note 2'!J28 -> 463 | K29: 541 | M29: =K29-'GAAP Recon Note 2'!J38 -> 466 | O29: 566 | Q29: =O29-'GAAP Recon Note 2'!J48 -> 504 | S29: =C29+G29+K29+O29 -> 1827 | U29: =S29-'GAAP Recon Note 2'!J58 -> 1903
B30: Amortization of purchased intangible assets (b) | C30: 34 | E30: =C30-'GAAP Recon Note 2'!K18 -> 0 | G30: 39 | I30: =G30-'GAAP Recon Note 2'!K28 -> 0 | K30: 39 | M30: =K30-'GAAP Recon Note 2'!K38 -> 0 | O30: 38 | Q30: =O30-'GAAP Recon Note 2'!K48 -> 0 | S30: =C30+G30+K30+O30 -> 150 | U30: =S30-'GAAP Recon Note 2'!K58 -> 0
B31: Restructuring and other charges (e) | C31: 78 | E31: =C31-'GAAP Recon Note 2'!L18 -> 0 | G31: 186 | I31: =G31-'GAAP Recon Note 2'!L28 -> 0 | K31: 18 | M31: =K31-'GAAP Recon Note 2'!L38 -> 0 | O31: 40 | Q31: =O31-'GAAP Recon Note 2'!L48 -> 0 | S31: =C31+G31+K31+O31 -> 322 | U31: =S31-'GAAP Recon Note 2'!L58 -> 0
B32: Total operating expenses (a), (b), & (d) - (f) | C32: =SUM(C27:C31) -> 4341 | E32: =SUM(E27:E31) -> 4173.7 | G32: =SUM(G27:G31) -> 4562 | I32: =SUM(I27:I31) -> 3975 | K32: =SUM(K27:K31) -> 4660 | M32: =SUM(M27:M31) -> 4204 | O32: =SUM(O27:O31) -> 4884 | Q32: =SUM(Q27:Q31) -> 4410 | S32: =SUM(S27:S31) -> 18447 | U32: =SUM(U27:U31) -> 16762.7
B33: Operating expense as a percentage of revenue | C33: =C32/C14 -> 0.33208384 | E33: =E32/E14 -> 0.3192855 | G33: =G32/G14 -> 0.36654347 | I33: =I32/I14 -> 0.31937972 | K33: =K32/K14 -> 0.3596234 | M33: =M32/M14 -> 0.32443278 | O33: =O32/O14 -> 0.36371761 | Q33: =Q32/Q14 -> 0.32841823 | S33: =S32/S14 -> 0.35540613 | U33: =U32/U14 -> 0.32295584
A35: OPERATING INCOME (a) - (f) | C35: =C21-C32 -> 3805 | E35: =E21-E32 -> 4167.3 | G35: =G21-G32 -> 3211 | I35: =I21-I32 -> 4000 | K35: =K21-K32 -> 3513 | M35: =M21-M32 -> 4166 | O35: =O21-O32 -> 3690 | Q35: =Q21-Q32 -> 4383 | S35: =S21-S32 -> 14219 | U35: =U21-U32 -> 16716.3
B36: Operating income as a percentage of revenue | C36: =C35/C14 -> 0.29108017 | E36: =E35/E14 -> 0.3187959 | G36: =G35/G14 -> 0.25799454 | I36: =I35/I14 -> 0.3213884 | K36: =K35/K14 -> 0.27110665 | M36: =M35/M14 -> 0.32150023 | O36: =O35/O14 -> 0.27479893 | Q36: =Q35/Q14 -> 0.32640751 | S36: =S35/S14 -> 0.27394806 | U36: =U35/U14 -> 0.32206188
A38: Interest income | C38: 344 | E38: =C38 -> 344 | G38: 328 | I38: =G38 -> 328 | K38: 331 | M38: =K38 -> 331 | O38: 305 | Q38: =O38 -> 305 | S38: =C38+G38+K38+O38 -> 1308 | U38: =S38 -> 1308
A39: Interest expense | C39: -221 | E39: =C39 -> -221 | G39: -223 | I39: =G39 -> -223 | K39: -211 | M39: =K39 -> -211 | O39: -204 | Q39: =O39 -> -204 | S39: =C39+G39+K39+O39 -> -859 | U39: =S39 -> -859
A40: Other income (loss), net (g) | C40: -19 | E40: -28 | G40: 27 | I40: -37 | K40: -18 | M40: -22 | O40: -87 | Q40: -67 | S40: =C40+G40+K40+O40 -> -97 | U40: =Q40+M40+I40+E40 -> -154
B41: Interest and other income (loss), net | C41: =SUM(C38:C40) -> 104 | E41: =SUM(E38:E40) -> 95 | G41: =SUM(G38:G40) -> 132 | I41: =SUM(I38:I40) -> 68 | K41: =SUM(K38:K40) -> 102 | M41: =SUM(M38:M40) -> 98 | O41: =SUM(O38:O40) -> 14 | Q41: =SUM(Q38:Q40) -> 34 | S41: =SUM(S38:S40) -> 352 | U41: =SUM(U38:U40) -> 295
A43: INCOME BEFORE PROVISION FOR INCOME TAXES (a) - (g) | C43: =C35+C41 -> 3909 | E43: =E35+E41 -> 4262.3 | G43: =G35+G41 -> 3343 | I43: =I35+I41 -> 4068 | K43: =K35+K41 -> 3615 | M43: =M35+M41 -> 4264 | O43: =O35+O41 -> 3704 | Q43: =Q35+Q41 -> 4417 | S43: =S35+S41 -> 14571 | U43: =U35+U41 -> 17011.3
A45: Provision for income taxes (h) - (i) | C45: 360 | E45: 810 | G45: 521 | I45: 773 | K45: 571 | M45: 810 | O45: 1498 | Q45: 831 | S45: =C45+G45+K45+O45 -> 2950 | U45: =E45+I45+M45+Q45 -> 3224
A47: NET INCOME (a) - (i) | C47: =C43-C45 -> 3549 | E47: =E43-E45 -> 3452.3 | G47: =G43-G45 -> 2822 | I47: =I43-I45 -> 3295 | K47: =K43-K45 -> 3044 | M47: =M43-M45 -> 3454 | O47: =O43-O45 -> 2206 | Q47: =Q43-Q45 -> 3586 | S47: =S43-S45 -> 11621 | U47: =U43-U45 -> 13787.3
A49: Net income per share:
A50: Basic (a) - (i) | C50: =IFERROR(C47/C55," ") -> 0.77743702 | E50: =IFERROR(E47/E55," ") | G50: =IFERROR(G47/G55," ") -> 0.63131991 | I50: =IFERROR(I47/I55," ") | K50: =IFERROR(K47/K55," ") -> 0.69656751 | M50: =IFERROR(M47/M55," ") | O50: =IFERROR(O47/O55," ") -> 0.51674865 | Q50: =IFERROR(Q47/Q55," ") | S50: =IFERROR(S47/S55," ") -> 2.6297805 | U50: =IFERROR(U47/U55," ")
...

Sheet GAAP Recon Note 1
A1: INCOME STATEMENTS
A2: Note 1
A3: (in millions)
D5: =+'Income Statements'!C8 -> FY 2019 | F5: =+'Income Statements'!E8 -> FY 2019 | H5: =+'Income Statements'!G8 -> FY 2019 | J5: =+'Income Statements'!I8 -> FY 2019 | L5: =+'Income Statements'!K8 -> FY 2019
D6: =+'Income Statements'!C9 -> Quarter Ended | F6: =+'Income Statements'!E9 -> Quarter Ended | H6: =+'Income Statements'!G9 -> Quarter Ended | J6: =+'Income Statements'!O9 -> Quarter Ended | L6: ='Income Statements'!S9 -> Year Ended
D7: =+'Income Statements'!C10 -> October 27, 2018 | F7: =+'Income Statements'!G10 -> January 26, 2019 | H7: =+'Income Statements'!K10 -> April 27, 2019 | J7: =+'Income Statements'!O10 -> July 27, 2019 | L7: =+'Income Statements'!Q10 -> July 27, 2019
A8: A reconciliation between net income on a GAAP basis and non-GAAP net income including items (a) to (i) is as follows:
A10: GAAP net income | D10: ='Income Statements'!C47 -> 3549 | F10: ='Income Statements'!G47 -> 2822 | H10: ='Income Statements'!K47 -> 3044 | J10: ='Income Statements'!O47 -> 2206 | L10: =J10+H10+F10+D10 -> 11621
A11: (a) | B11: ='GAAP Recon Note 2'!C11 -> Share-based compensation expense | D11: ='GAAP Recon Note 2'!N11 -> 385 | F11: ='GAAP Recon Note 2'!N21 -> 376 | H11: ='GAAP Recon Note 2'!N31 -> 376 | J11: ='GAAP Recon Note 2'!N41 -> 392 | L11: =J11+H11+F11+D11 -> 1529
A12: (b) | B12: ='GAAP Recon Note 2'!C12 -> Amortization of acquisition-related intangible assets | D12: ='GAAP Recon Note 2'!N12 -> 170 | F12: ='GAAP Recon Note 2'!N22 -> 180 | H12: ='GAAP Recon Note 2'!N32 -> 180 | J12: ='GAAP Recon Note 2'!N42 -> 182 | L12: =J12+H12+F12+D12 -> 712
A13: (c) | B13: ='GAAP Recon Note 2'!C13 -> Supplier component remediation charge (adjustment) | D13: ='GAAP Recon Note 2'!N13 -> -1 | F13: ='GAAP Recon Note 2'!N23 -> 0 | H13: ='GAAP Recon Note 2'!N33 -> 0 | J13: ='GAAP Recon Note 2'!N43 -> 17 | L13: =J13+H13+F13+D13 -> 16
A14: (d) | B14: ='GAAP Recon Note 2'!C14 -> Other acquisition-related/divestiture costs | D14: ='GAAP Recon Note 2'!N14 -> 125.3 | F14: ='GAAP Recon Note 2'!N24 -> 42 | H14: ='GAAP Recon Note 2'!N34 -> 80 | J14: ='GAAP Recon Note 2'!N44 -> 62 | L14: =J14+H14+F14+D14 -> 309.3
A15: (e) | B15: ='GAAP Recon Note 2'!C15 -> Significant asset impairments and restructurings | D15: ='GAAP Recon Note 2'!N15 -> 78 | F15: ='GAAP Recon Note 2'!N25 -> 186 | H15: ='GAAP Recon Note 2'!N35 -> 18 | J15: ='GAAP Recon Note 2'!N45 -> 40 | L15: =J15+H15+F15+D15 -> 322
A16: (f) | B16: ='GAAP Recon Note 2'!C16 -> Legal and indemnification settlements | D16: ='GAAP Recon Note 2'!N16 -> -395 | F16: ='GAAP Recon Note 2'!N26 -> 5 | H16: ='GAAP Recon Note 2'!N36 -> -1 | J16: ='GAAP Recon Note 2'!N46 -> 0 | L16: =J16+H16+F16+D16 -> -391
A17: (g) | B17: ='GAAP Recon Note 2'!C17 -> Gains and losses on equity investments | D17: ='GAAP Recon Note 2'!N17 -> -9 | F17: ='GAAP Recon Note 2'!M27 -> -64 | H17: ='GAAP Recon Note 2'!N37 -> -4 | J17: ='GAAP Recon Note 2'!N47 -> 20 | L17: =J17+H17+F17+D17 -> -57
A18: Total adjustments to GAAP income before provision for income taxes | D18: =SUM(D11:D17) -> 353.3 | F18: =SUM(F11:F17) -> 725 | H18: =SUM(H11:H17) -> 649 | J18: =SUM(J11:J17) -> 713 | L18: =J18+H18+F18+D18 -> 2440.3
A19: (h) | B19: Income tax effect | D19: -185 | F19: -209 | H19: -160 | J19: -168 | L19: =J19+H19+F19+D19 -> -722
A20: (i) | B20: Significant tax matters | D20: -265 | F20: -43 | H20: -79 | J20: 835 | L20: =J20+H20+F20+D20 -> 448
A21: Total adjustments to GAAP provision for income taxes | D21: =SUM(D19:D20) -> -450 | F21: =SUM(F19:F20) -> -252 | H21: =SUM(H19:H20) -> -239 | J21: =SUM(J19:J20) -> 667 | L21: =J21+H21+F21+D21 -> -274
A23: Non-GAAP net income | D23: =D10+D18+D21 -> 3452.3 | F23: =F10+F18+F21 -> 3295 | H23: =H10+H18+H21 -> 3454 | J23: =J10+J18+J21 -> 3586 | L23: =J23+H23+F23+D23 -> 13787.3

Sheet GAAP Recon Note 2
A1: INCOME STATEMENTS
A2: Note 2
A3: (in millions)
E5: COGS | H5: Operating Expense | M5: OI&E
H6: Research and Development | I6: Sales and Marketing | J6: General and Administrative | K6: Amortization of Purchased Intangible Assets | L6: Restructuring and Other Charges | M6: Other Income (Expense) | N6: Total
E7: Product | F7: Service
C8: Items (a) to (g) in note 1 are allocated as follows:
A10: Items | C10: Q1'19
A11: (a) | C11: Share-based compensation expense | E11: 23 | F11: 33 | H11: 130 | I11: =110+27 -> 137 | J11: 62 | K11: 0 | L11: 0 | M11: 0 | N11: =SUM(E11:M11) -> 385
A12: (b) | C12: Amortization of acquisition-related intangible assets | E12: 136 | F12: 0 | H12: 0 | I12: 0 | J12: 0 | K12: 34 | L12: 0 | M12: 0 | N12: =SUM(E12:M12) -> 170
A13: (c) | C13: Supplier component remediation charge (adjustment) | E13: -1 | F13: 0 | H13: 0 | I13: 0 | J13: 0 | K13: 0 | L13: 0 | M13: 0 | N13: =SUM(E13:M13) -> -1
A14: (d) | C14: Other acquisition-related/divestiture costs | E14: 2 | F14: 2 | H14: 41 | I14: =ROUND(4.579+1.672, 1) -> 6.3 | J14: =73+1 -> 74 | K14: 0 | L14: 0 | M14: 0 | N14: =SUM(E14:M14) -> 125.3
A15: (e) | C15: Significant asset impairments and restructurings | E15: 0 | F15: 0 | H15: 0 | I15: 0 | J15: 0 | K15: 0 | L15: 78 | M15: 0 | N15: =SUM(E15:M15) -> 78
A16: (f) | C16: Legal and indemnification settlements | E16: 0 | F16: 0 | H16: 0 | I16: 0 | J16: -395 | K16: 0 | L16: 0 | M16: 0 | N16: =SUM(E16:M16) -> -395
A17: (g) | C17: Gains and losses on equity investments | E17: 0 | F17: 0 | H17: 0 | I17: 0 | J17: 0 | K17: 0 | L17: 0 | M17: -9 | N17: =SUM(E17:M17) -> -9
C18: Total | E18: =SUM(E11:E17) -> 160 | F18: =SUM(F11:F17) -> 35 | H18: =SUM(H11:H17) -> 171 | I18: =SUM(I11:I17) -> 143.3 | J18: =SUM(J11:J17) -> -259 | K18: =SUM(K11:K17) -> 34 | L18: =SUM(L11:L17) -> 78 | M18: =SUM(M11:M17) -> -9 | N18: =SUM(E18:M18) -> 353.3
A20: Items | C20: Q2'19
A21: (a) | C21: Share-based compensation expense | E21: 22 | F21: 31 | H21: 133 | I21: 125 | J21: 65 | K21: 0 | L21: 0 | M21: 0 | N21: =SUM(E21:M21) -> 376
A22: (b) | C22: Amortization of acquisition-related intangible assets | E22: 141 | F22: 0 | H22: 0 | I22: 0 | J22: 0 | K22: 39 | L22: 0 | M22: 0 | N22: =SUM(E22:M22) -> 180
A23: (c) | C23: Supplier component remediation charge (adjustment) | E23: 0 | F23: 0 | H23: 0 | I23: 0 | J23: 0 | K23: 0 | L23: 0 | M23: 0 | N23: =SUM(E23:M23) -> 0
A24: (d) | C24: Other acquisition-related/divestiture costs | E24: 1 | F24: 2 | H24: 50 | I24: 8 | J24: -19 | K24: 0 | L24: 0 | M24: 0 | N24: =SUM(E24:M24) -> 42
A25: (e) | C25: Significant asset impairments and restructurings | E25: 0 | F25: 0 | H25: 0 | I25: 0 | J25: 0 | K25: 0 | L25: 186 | M25: 0 | N25: =SUM(E25:M25) -> 186
A26: (f) | C26: Legal and indemnification settlements | E26: 5 | F26: 0 | H26: 0 | I26: 0 | J26: 0 | K26: 0 | L26: 0 | M26: 0 | N26: =SUM(E26:M26) -> 5
A27: (g) | C27: Gains and losses on equity investments | E27: 0 | F27: 0 | H27: 0 | I27: 0 | J27: 0 | K27: 0 | L27: 0 | M27: -64 | N27: =SUM(E27:M27) -> -64
C28: Total | E28: =SUM(E21:E27) -> 169 | F28: =SUM(F21:F27) -> 33 | H28: =SUM(H21:H27) -> 183 | I28: =SUM(I21:I27) -> 133 | J28: =SUM(J21:J27) -> 46 | K28: =SUM(K21:K27) -> 39 | L28: =SUM(L21:L27) -> 186 | M28: =SUM(M21:M27) -> -64 | N28: =SUM(E28:M28) -> 725
A30: Items | C30: Q3'19
A31: (a) | C31: Share-based compensation expense | E31: 22 | F31: 32 | H31: 135 | I31: 124 | J31: 63 | K31: 0 | L31: 0 | M31: 0 | N31: =SUM(E31:M31) -> 376
A32: (b) | C32: Amortization of acquisition-related intangible assets | E32: 141 | F32: 0 | H32: 0 | I32: 0 | J32: 0 | K32: 39 | L32: 0 | M32: 0 | N32: =SUM(E32:M32) -> 180
A33: (c) | C33: Supplier component remediation charge (adjustment) | E33: 0 | F33: 0 | H33: 0 | I33: 0 | J33: 0 | K33: 0 | L33: 0 | M33: 0 | N33: =SUM(E33:M33) -> 0
A34: (d) | C34: Other acquisition-related/divestiture costs | E34: 1 | F34: 1 | H34: 56 | I34: 9 | J34: 13 | K34: 0 | L34: 0 | M34: 0 | N34: =SUM(E34:M34) -> 80
A35: (e) | C35: Significant asset impairments and restructurings | E35: 0 | F35: 0 | G35: 0 | H35: 0 | I35: 0 | J35: 0 | K35: 0 | L35: 18 | M35: 0 | N35: =SUM(E35:M35) -> 18
A36: (f) | C36: Legal and indemnification settlements | E36: 0 | F36: 0 | G36: 0 | H36: 0 | I36: 0 | J36: -1 | K36: 0 | L36: 0 | M36: 0 | N36: =SUM(E36:M36) -> -1
A37: (g) | C37: Gains and losses on equity investments | E37: 0 | F37: 0 | G37: 0 | H37: 0 | I37: 0 | J37: 0 | K37: 0 | L37: 0 | M37: -4 | N37: =SUM(E37:M37) -> -4
C38: Total | E38: =SUM(E31:E37) -> 164 | F38: =SUM(F31:F37) -> 33 | G38: =SUM(G31:G37) -> 0 | H38: =SUM(H31:H37) -> 191 | I38: =SUM(I31:I37) -> 133 | J38: =SUM(J31:J37) -> 75 | K38: =SUM(K31:K37) -> 39 | L38: =SUM(L31:L37) -> 18 | ... N38: =SUM(N31:N37) -> 649
A40: Items | C40: Q4'19
A41: (a) | C41: Share-based compensation expense | E41: 23 | F41: 34 | H41: 142 | I41: 133 | J41: 60 | K41: 0 | L41: 0 | M41: 0 | N41: =SUM(E41:M41) -> 392
A42: (b) | C42: Amortization of acquisition-related intangible assets | E42: 144 | F42: 0 | H42: 0 | I42: 0 | J42: 0 | K42: 38 | L42: 0 | M42: 0 | N42: =SUM(E42:M42) -> 182
A43: (c) | C43: Supplier component remediation charge (adjustment) | E43: 17 | F43: 0 | G43: 0 | H43: 0 | I43: 0 | J43: 0 | K43: 0 | L43: 0 | M43: 0 | N43: =SUM(E43:M43) -> 17
A44: (d) | C44: Other acquisition-related/divestiture costs | E44: 0 | F44: 1 | H44: 54 | I44: 5 | J44: 2 | K44: 0 | L44: 0 | M44: 0 | N44: =SUM(E44:M44) -> 62
A45: (e) | C45: Significant asset impairments and restructurings | E45: 0 | F45: 0 | G45: 0 | H45: 0 | I45: 0 | J45: 0 | K45: 0 | L45: 40 | M45: 0 | N45: =SUM(E45:M45) -> 40
...

Sheet SPVSS business
A1: NON-GAAP INCOME STATEMENT DETAILS
A2: FY 2019
A3: (in millions, except per-share amounts and percentages)
C5: Q4'19 | G5: Q4'18 | K5: Y/Y Change Excluding SPVSS Business
C6: Total Cisco | D6: SPVSS* Business | E6: Excluding SPVSS Business | G6: Total Cisco | H6: SPVSS Business | I6: Excluding SPVSS Business
A7: Revenue | C7: 13428 | D7: 0 | E7: =C7 -> 13428 | G7: 12844 | H7: =G7-I7 -> 206 | I7: 12638 | K7: =E7/I7-1 -> 0.062509891
A8: Gross Margin | C8: 0.655 | D8: 0 | E8: =C8 -> 0.655 | G8: 0.629 | H8: 0.432 | I8: 0.632 | K8: 2.3pts
A9: Product Gross Margin | C9: 0.628 | D9: 0 | E9: =C9 -> 0.628 | G9: 0.608 | H9: 0.182 | I9: 0.625 | K9: 0.8pts
A10: Service Gross Margin | C10: 0.677 | D10: 0 | E10: =C10 -> 0.677 | G10: 0.648 | H10: 0 | I10: 0.648 | K10: 1.9pts
A11: Operating Expenses | C11: 4410 | D11: 0 | E11: =C11 -> 4410 | G11: 4109 | H11: =G11-I11 -> 59 | I11: 4050 | K11: =E11/I11-1 -> 0.088888889
A12: Opex (% of Revenue) | C12: 0.328 | D12: 0 | E12: =C12 -> 0.328 | G12: 0.32 | H12: 0.287 | I12: 0.32 | K12: 0.8pts
A13: Operating Income | C13: 4383 | D13: 0 | E13: =C13 -> 4383 | G13: 3973 | H13: 30 | I13: 3943 | K13: =E13/I13-1 -> 0.11159016
A14: Operating Income (% of Revenue) | C14: 0.326 | D14: 0 | E14: =C14 -> 0.326 | G14: 0.309 | H14: 0.145 | I14: 0.312 | K14: 1.4pts
A15: Net Income | C15: 3586 | D15: 0 | E15: =C15 -> 3586 | G15: 3326 | H15: =G15-I15 -> 24 | I15: 3302 | K15: =E15/I15-1 -> 0.08600848
A16: EPS (diluted) | C16: 0.83 | D16: 0 | E16: =C16 -> 0.83 | G16: 0.7 | H16: =G16-I16 -> 0 | I16: 0.7 | K16: =E16/I16-1 -> 0.18571429
A17: Stand-alone SP Video Software Solutions business financial information is unaudited.
A18: *No operations for SP Video Software Solutions business in Q4 FY2019 as it was divested on October 28, 2018.
