Workbook

Sheet Statements of Cash Flows
F1: HISTORICAL FINANCIALS
F2: STATEMENTS OF CASH FLOWS
F3: (in millions)
G5: FY 2020 | I5: FY 2020 | K5: FY 2020 | M5: FY 2020 | O5: FY 2020
G6: Quarter Ended | I6: Quarter Ended | K6: Quarter Ended | M6: Quarter Ended | O6: Year Ended
G7: October 26, 2019 | I7: January 25, 2020 | K7: April 25, 2020 | M7: July 25, 2020 | O7: July 25, 2020
A9: Cash flows from operating activities:
B10: Net income | G10: 2926 | I10: 2878 | K10: 2774 | M10: 2636 | O10: =M10+K10+I10+G10 -> 11214
B11: Adjustments to reconcile net income to net cash provided by operating activities:
C12: Depreciation, amortization, and other | G12: 461 | I12: 457 | K12: 446 | M12: 444 | O12: =K12+M12+I12+G12 -> 1808
C13: Share-based compensation expense | G13: 395 | I13: 384 | K13: 391 | M13: 399 | O13: =K13+M13+I13+G13 -> 1569
C14: Provision for receivables | G14: 50 | I14: -4 | K14: 14 | M14: 33 | O14: =K14+M14+I14+G14 -> 93
C15: Deferred income taxes | G15: 81 | I15: 47 | K15: -25 | M15: -141 | O15: =K15+M15+I15+G15 -> -38
C16: (Gains) losses on divestitures, investments and other, net | G16: -8 | I16: -154 | K16: -23 | M16: 47 | O16: =K16+M16+I16+G16 -> -138
C17: Change in operating assets and liabilities, net of effects of acquisitions and divestitures:
D18: Accounts receivable | G18: 515 | I18: 569 | K18: -310 | M18: -881 | O18: =K18+M18+I18+G18 -> -107
D19: Inventories | G19: 34 | I19: -9 | K19: 118 | M19: -59 | O19: =K19+M19+I19+G19 -> 84
D20: Financing receivables | G20: 146 | I20: 262 | K20: -28 | M20: -1177 | O20: =K20+M20+I20+G20 -> -797
D21: Other assets | G21: 59 | I21: 71 | K21: 15 | M21: -49 | O21: =K21+M21+I21+G21 -> 96
D22: Accounts payable | G22: -45 | I22: -81 | K22: 450 | M22: -183 | O22: =K22+M22+I22+G22 -> 141
D23: Income taxes, net | G23: -330 | I23: -677 | K23: 307 | M23: 378 | O23: =K23+M23+I23+G23 -> -322
D24: Accrued compensation | G24: -473 | I24: -48 | K24: 301 | M24: 142 | O24: =K24+M24+I24+G24 -> -78
D25: Deferred revenue | G25: 158 | I25: 78 | K25: 97 | M25: 1678 | O25: =K25+M25+I25+G25 -> 2011
D26: Other liabilities | G26: -382 | I26: 27 | K26: -290 | M26: 535 | O26: =K26+M26+I26+G26 -> -110
E27: Net cash provided by operating activities | G27: =SUM(G9:G26) -> 3587 | I27: =SUM(I9:I26) -> 3800 | K27: =SUM(K9:K26) -> 4237 | M27: =SUM(M9:M26) -> 3802 | O27: =SUM(O9:O26) -> 15426
A29: Cash flows from investing activities:
B30: Purchases of investments | G30: -2028 | I30: -2222 | K30: -2630 | M30: -2332 | O30: =K30+M30+I30+G30 -> -9212
B31: Proceeds from sales of investments | G31: 2342 | I31: 1068 | K31: 1327 | M31: 894 | O31: =K31+M31+I31+G31 -> 5631
B32: Proceeds from maturities of investments | G32: 1966 | I32: 2078 | K32: 1664 | M32: 2267 | O32: =K32+M32+I32+G32 -> 7975
B33: Acquisitions and divestitures | G33: -163 | I33: 0 | K33: -74 | M33: -90 | O33: =K33+M33+I33+G33 -> -327
B34: Purchases of investments in privately held companies | G34: -54 | I34: -43 | K34: -46 | M34: -47 | O34: =K34+M34+I34+G34 -> -190
B35: Return of investments in privately held companies | G35: 57 | I35: 34 | K35: 122 | M35: 11 | O35: =K35+M35+I35+G35 -> 224
B36: Acquisition of property and equipment | G36: -202 | I36: -189 | K36: -171 | M36: -208 | O36: =K36+M36+I36+G36 -> -770
B37: Proceeds from sales of property and equipment | G37: 4 | I37: 127 | K37: 44 | M37: 4 | O37: =K37+M37+I37+G37 -> 179
B38: Other | G38: 0 | I38: -10 | K38: 0 | M38: 0 | O38: =K38+M38+I38+G38 -> -10
E39: Net cash provided by / (used in) investing activities | G39: =SUM(G30:G38) -> 1922 | I39: =SUM(I30:I38) -> 843 | K39: =SUM(K30:K38) -> 236 | M39: =SUM(M30:M38) -> 499 | O39: =SUM(O30:O38) -> 3500
A41: Cash flows from financing activities:
B42: Issuances of common stock | G42: 2 | I42: 332 | K42: 1 | M42: 320 | O42: =K42+M42+I42+G42 -> 655
B43: Repurchases of common stock - repurchase program | G43: -784 | I43: -864 | K43: -1011 | M43: 0 | O43: =K43+M43+I43+G43 -> -2659
B44: Shares repurchased for tax withholdings on vesting of restricted stock units | G44: -194 | I44: -243 | K44: -82 | M44: -208 | O44: =K44+M44+I44+G44 -> -727
...

Sheet Free Cash Flow
A1: HISTORICAL FINANCIALS
A2: RECONCILIATION OF CASH FLOW FROM OPERATIONS TO FREE CASH FLOW
A3: (in millions, except percentages)
B5: FY 2020 | D5: FY 2020 | F5: FY 2020 | H5: FY 2020 | J5: FY 2020
B6: Quarter Ended | D6: Quarter Ended | F6: Quarter Ended | H6: Quarter Ended | J6: Year Ended
B7: October 26, 2019 | D7: January 25, 2020 | F7: April 25, 2020 | H7: July 25, 2020 | J7: July 25, 2020
A9: Cash Flow from Operating Activities | B9: 3587 | D9: ='Statements of Cash Flows'!I27 -> 3800 | F9: ='Statements of Cash Flows'!K27 -> 4237 | H9: ='Statements of Cash Flows'!M27 -> 3802 | J9: ='Statements of Cash Flows'!O27 -> 15426
A10: Capital Expenditures* | B10: -202 | D10: ='Statements of Cash Flows'!I36 -> -189 | F10: ='Statements of Cash Flows'!K36 -> -171 | H10: ='Statements of Cash Flows'!M36 -> -208 | J10: ='Statements of Cash Flows'!O36 -> -770
A11: Free Cash Flow - Non-GAAP | B11: 3385 | D11: =SUM(D9:D10) -> 3611 | F11: =SUM(F9:F10) -> 4066 | H11: =SUM(H9:H10) -> 3594 | J11: =SUM(J9:J10) -> 14656
A13: Y/Y Growth Rate - Free Cash Flow | B13: -0.046747395 | D13: 0.02 | F13: -0.01 | H13: -0.04 | J13: -0.02
B15: FY 2019 | D15: FY 2019 | F15: FY 2019 | H15: FY 2019 | J15: FY 2019
B16: Quarter Ended | D16: Quarter Ended | F16: Quarter Ended | H16: Quarter Ended | J16: Year Ended
B17: October 27, 2018 | D17: January 26, 2019 | F17: April 27, 2019 | H17: July 27, 2019 | J17: July 27, 2019
A19: Cash Flow from Operating Activities | B19: 3763 | D19: 3797 | F19: 4329 | H19: 3942 | J19: =B19+D19+F19+H19 -> 15831
A20: Capital Expenditures* | B20: -212 | D20: -261 | F20: -228 | H20: -208 | J20: =B20+D20+F20+H20 -> -909
A21: Free Cash Flow - Non-GAAP | B21: 3551 | D21: 3536 | F21: 4101 | H21: 3734 | J21: =SUM(J19:J20) -> 14922
A23: Y/Y Growth Rate - Free Cash Flow | B23: 0.22 | D23: -0.08 | F23: 0.89 | H23: -0.039114771 | J23: 0.16287406
A25: * Capital expenditures for the indicated periods are from the "Acquisition of property and equipment" of Cisco's Consolidated Statements of Cash Flows.
