Workbook

Sheet Income Statements
A1: HISTORICAL FINANCIALS
A2: INCOME STATEMENTS
A3: (in millions, except per-share amounts)
C5: Notes (1) (2) | E5: Notes (1) (2)
C6: GAAP | E6: NON-GAAP
C7: FY 2022 | E7: =$C7 -> FY 2022
C8: Quarter Ended | E8: =C8 -> Quarter Ended
C9: October 30, 2021 | E9: October 30, 2021
A10: REVENUE:
B11: Product | C11: 9529 | E11: 9529
B12: Service | C12: 3371 | E12: 3371
B13: Total revenue | C13: =SUM(C11:C12) -> 12900 | E13: =SUM(E11:E12) -> 12900
A15: COST OF SALES:
B16: Product (a) - (c) & (e) | C16: 3673 | E16: 3449
B17: Service (a) & (c) | C17: 1174 | E17: 1130
B18: Total cost of sales (a) - (c) & (e) | C18: =SUM(C16:C17) -> 4847 | E18: =SUM(E16:E17) -> 4579
A20: GROSS MARGIN (a) - (c) & (e) | C20: =C13-C18 -> 8053 | E20: =E13-E18 -> 8321
B21: Product gross margin percentage | C21: =(C11-C16)/C11 -> 0.61454507 | E21: =(E11-E16)/E11 -> 0.63805226
B22: Service gross margin percentage | C22: =(C12-C17)/C12 -> 0.65173539 | E22: =(E12-E17)/E12 -> 0.6647879
B23: Total gross margin percentage | C23: =(C13-C18)/C13 -> 0.62426357 | E23: =(E13-E18)/E13 -> 0.64503876
A25: OPERATING EXPENSES:
B26: Research and development (a) & (c) | C26: 1714 | E26: 1452
B27: Sales and marketing (a) & (c) | C27: 2261 | E27: 2118
B28: General and administrative (a), (c) & (e) | C28: 551 | E28: 461
B29: Amortization of purchased intangible assets (b) | C29: 84 | E29: 0
B30: Restructuring and other charges (d) | C30: 5 | E30: 0
B31: Total operating expenses (a) - (e) | C31: =SUM(C26:C30) -> 4615 | E31: =SUM(E26:E30) -> 4031
B32: Operating expense as a percentage of revenue | C32: =C31/C13 -> 0.35775194 | E32: =E31/E13 -> 0.31248062
A34: OPERATING INCOME (a) - (e) | C34: =C20-C31 -> 3438 | E34: =E20-E31 -> 4290
B35: Operating income as a percentage of revenue | C35: =C34/C13 -> 0.26651163 | E35: =E34/E13 -> 0.33255814
A37: Interest income | C37: 121 | E37: 121
A38: Interest expense | C38: -89 | E38: -89
A39: Other income (loss), net (f) | C39: 187 | E39: -32
B40: Interest and other income (loss), net | C40: =SUM(C37:C39) -> 219 | E40: =SUM(E37:E39) -> 0
A42: INCOME BEFORE PROVISION FOR INCOME TAXES (a) - (f) | C42: =C34+C40 -> 3657 | E42: =E34+E40 -> 4290
A44: Provision for income taxes (g) - (h) | C44: 677 | E44: 815
A46: NET INCOME (a) - (h) | C46: =C42-C44 -> 2980 | E46: =E42-E44 -> 3475
A48: Net income per share:
A49: Basic (a) - (h) | C49: =IFERROR(C46/C54," ") -> 0.70649597 | E49: =IFERROR(E46/E54," ")
A51: Diluted (a) - (h) | C51: =IFERROR(C46/C56," ") -> 0.70233325 | E51: =IFERROR(E46/E56," ") -> 0.81899599
...

Sheet GAAP Recon Note 1
A1: INCOME STATEMENTS
A2: Note 1
A3: (in millions)
D5: ='Income Statements'!C7 -> FY 2022
D6: ='Income Statements'!C8 -> Quarter Ended
D7: ='Income Statements'!C9 -> October 30, 2021
A8: A reconciliation between net income on a GAAP basis and non-GAAP net income including items (a) to (h) is as follows:
A10: GAAP net income | D10: ='Income Statements'!C46 -> 2980
A11: (a) | B11: Share-based compensation expense | D11: ='GAAP Recon Note 2'!N11 -> 452
A12: (b) | B12: Amortization of acquisition-related intangible assets | D12: ='GAAP Recon Note 2'!N12 -> 282
A13: (c) | B13: Other acquisition-related/divestiture costs | D13: ='GAAP Recon Note 2'!N13 -> 113
A14: (d) | B14: Significant asset impairments and restructurings | D14: ='GAAP Recon Note 2'!N14 -> 5
A15: (e) | B15: Legal and indemnification settlements/charges | D15: ='GAAP Recon Note 2'!N15 -> 0
A16: (f) | B16: Gains and losses on equity investments | D16: ='GAAP Recon Note 2'!N16 -> -219
A17: Total adjustments to GAAP income before provision for income taxes | D17: =SUM(D11:D16) -> 633
A18: (g) | B18: Income tax effect | D18: -138
A19: (h) | B19: Significant tax matters | D19: 0
A20: Total adjustments to GAAP provision for income taxes | D20: =SUM(D18:D19) -> -138
A22: Non-GAAP net income | D22: =D10+D17+D20 -> 3475

Sheet GAAP Recon Note 2
A1: INCOME STATEMENTS
A2: Note 2
A3: (in millions)
E5: COGS | H5: Operating Expense | M5: OI&E
H6: Research and Development | I6: Sales and Marketing | J6: General and Administrative | K6: Amortization of Purchased Intangible Assets | L6: Restructuring and Other Charges | M6: Other Income (Expense) | N6: Total
E7: Product | F7: Service
C8: Items (a) to (f) in note 1 are allocated as follows:
A10: Items | C10: Q1'22
A11: (a) | C11: Share-based compensation expense | E11: 25 | F11: 44 | H11: 181 | I11: 140 | J11: 62 | K11: 0 | L11: 0 | M11: 0 | N11: =SUM(E11:M11) -> 452
A12: (b) | C12: Amortization of acquisition-related intangible assets | E12: 198 | F12: 0 | H12: 0 | I12: 0 | J12: 0 | K12: 84 | L12: 0 | M12: 0 | N12: =SUM(E12:M12) -> 282
A13: (c) | C13: Other acquisition-related/divestiture costs | E13: 1 | F13: 0 | H13: 81 | I13: 3 | J13: 28 | K13: 0 | L13: 0 | M13: 0 | N13: =SUM(E13:M13) -> 113
A14: (d) | C14: Significant asset impairments and restructurings | E14: 0 | F14: 0 | H14: 0 | I14: 0 | J14: 0 | K14: 0 | L14: 5 | M14: 0 | N14: =SUM(E14:M14) -> 5
A15: (e) | C15: Legal and indemnification settlements/charges | E15: 0 | F15: 0 | H15: 0 | I15: 0 | J15: 0 | K15: 0 | L15: 0 | M15: 0 | N15: =SUM(E15:M15) -> 0
A16: (f) | C16: Gains and losses on equity investments | E16: 0 | F16: 0 | H16: 0 | I16: 0 | J16: 0 | K16: 0 | L16: 0 | M16: -219 | N16: =SUM(E16:M16) -> -219
C17: Total | E17: =SUM(E11:E16) -> 224 | F17: =SUM(F11:F16) -> 44 | H17: =SUM(H11:H16) -> 262 | I17: =SUM(I11:I16) -> 143 | J17: =SUM(J11:J16) -> 90 | K17: =SUM(K11:K16) -> 84 | L17: =SUM(L11:L16) -> 5 | M17: =SUM(M11:M16) -> -219 | N17: =SUM(E17:M17) -> 633
